BEGIN:VCALENDAR
VERSION:2.0
PRODID:-//ChamberMaster//Event Calendar 2.0//EN
METHOD:PUBLISH
X-PUBLISHED-TTL:P1H
REFRESH-INTERVAL:P1H
CALSCALE:GREGORIAN
BEGIN:VTIMEZONE
TZID:America/New_York
BEGIN:DAYLIGHT
RRULE:FREQ=YEARLY;BYMONTH=3;BYDAY=2SU
DTSTART:20070101T000000
TZOFFSETFROM:-0500
TZOFFSETTO:-0400
TZNAME:Eastern Daylight Time
END:DAYLIGHT
BEGIN:STANDARD
RRULE:FREQ=YEARLY;BYMONTH=11;BYDAY=1SU
DTSTART:20070101T000000
TZOFFSETFROM:-0400
TZOFFSETTO:-0500
TZNAME:Eastern Standard Time
END:STANDARD
END:VTIMEZONE
BEGIN:VEVENT
DTSTART;TZID=America/New_York:20260820T180000
DTEND;TZID=America/New_York:20260820T203000
X-MICROSOFT-CDO-ALLDAYEVENT:FALSE
SUMMARY:2026 TMC Tech Night - Western\, NC area - Brakes (Disc & Drum)
DESCRIPTION:NCTA Technology & Maintenance Council MeetingLocation: TBD TBDDate: Thursday\, August 20\, 2026    Time: 6:00pm - 8:30pm\nSchedule:6:00pm-6:30pm - Dinner\n6:30pm-8:30pm - Training Brakes (Disc & Drum) TrainingThe NCTA Technology & Maintenance Council is excited to host our upcoming Tech Night focused on Brake Systems (Disc & Drum)\, with training led by industry experts from Bendix.This session is designed to deliver practical\, hands-on knowledge for technicians and maintenance leaders responsible for keeping fleets safe\, compliant\, and road-ready.Whether you're troubleshooting brake performance concerns in the shop or managing brake system reliability across your fleet\, this training will provide real-world insight into disc and drum brake components\, system operation\, inspection procedures\, and common failure points helping improve safety\, reduce downtime\, and extend component life.Brake systems are one of the most critical safety components on any vehicle. Proper inspection\, maintenance\, and diagnostics are essential to ensuring compliance\, preventing out-of-service violations\, and maintaining optimal stopping performance.💡 What to Expect:Overview of disc and drum brake system components and how they functionKey differences between air disc and drum brake systemsBest practices for inspection\, adjustment\, and preventative maintenanceCommon wear patterns\, failure modes\, and diagnostic tipsGuidance on brake stroke measurement\, lining condition assessment\, and hardware inspectionLive Q&A with a Bendix brake systems expertIf you have questions regarding this event\, please contact Laura Sherman at lsherman@nctrucking.com.Member Cost: $0\, meal included | Non-Member Cost: $0\, meal included             The NCTA Technology & Maintenance Council welcomes guests to attend and learn about the Council.
X-ALT-DESC;FMTTYPE=text/html:<!DOCTYPE html><html><head><title></title></head><body aria-disabled="false"><p style="text-align: center\;"><span style="font-size: 24px\;"><strong fr-original-style="font-weight: 700\;" style="font-weight: 700\;"><span style="color: rgb(13\, 92\, 145)\;">NCTA Technology &amp\; Maintenance Council Meeting</span></strong></span></p><p style="text-align: center\;"><span style="font-size: 18px\;"><strong fr-original-style="">Location: TBD&nbsp\;</strong></span></p><p style="text-align: center\;">TBD</p><p style="text-align: center\;"><span style="font-size: 18px\;"><font><font><font><strong fr-original-style="font-weight: 700\;" style="font-weight: 700\;"><font>Dat</font></strong><font><strong fr-original-style="">e:&nbsp\;</strong>Thursday\, August 20\, 2026</font></font></font>&nbsp\; <strong fr-original-style="">&nbsp\; <font><font>Time:</font>&nbsp\;</font></strong></font><font>6:00pm - 8:30pm</font></span></p><p style="text-align: center\;"><br></p><p style="text-align: left\;"><span style="font-size: 18px\;"><strong fr-original-style=""><u>Schedule:</u></strong></span></p><p style="text-align: left\;"><font style="font-size: 18px\;">6:00pm-6:30pm - Dinner</font><br><font><span style="font-size: 18px\;">6:30pm-8:30pm - Training&nbsp\;</span></font></p><h2 data-end="242" data-start="208" style="text-align: center\;">Brakes (Disc &amp\; Drum) Training</h2><p data-end="456" data-start="244">The NCTA Technology &amp\; Maintenance Council is excited to host our upcoming Tech Night focused on <strong data-end="371" data-start="340" fr-original-style="">Brake Systems (Disc &amp\; Drum)</strong>\, with training led by industry experts from Bendix.</p><p data-end="627" data-start="458">This session is designed to deliver practical\, hands-on knowledge for technicians and maintenance leaders responsible for keeping fleets safe\, compliant\, and road-ready.</p><p data-end="972" data-start="629">Whether you&rsquo\;re troubleshooting brake performance concerns in the shop or managing brake system reliability across your fleet\, this training will provide real-world insight into disc and drum brake components\, system operation\, inspection procedures\, and common failure points&mdash\;helping improve safety\, reduce downtime\, and extend component life.</p><p data-end="1220" data-start="974">Brake systems are one of the most critical safety components on any vehicle. Proper inspection\, maintenance\, and diagnostics are essential to ensuring compliance\, preventing out-of-service violations\, and maintaining optimal stopping performance.</p><hr data-start="1222" data-end="1225" fr-original-style="" style="clear: both\; user-select: none\; break-after: page\;"><h3 data-end="1249" data-start="1227">💡 What to Expect:</h3><p data-end="1326" data-start="1253">Overview of disc and drum brake system components and how they function</p><p data-end="1386" data-start="1329">Key differences between air disc and drum brake systems</p><p data-end="1462" data-start="1389">Best practices for inspection\, adjustment\, and preventative maintenance</p><p data-end="1523" data-start="1465">Common wear patterns\, failure modes\, and diagnostic tips</p><p data-end="1618" data-start="1526">Guidance on brake stroke measurement\, lining condition assessment\, and hardware inspection</p><p data-end="1666" data-start="1621">Live Q&amp\;A with a Bendix brake systems expert</p><div style="margin-bottom: 20px\; margin-top: 24px\;"><em><font color="#0d5c91">If you have questions regarding this event\, please contact Laura Sherman at&nbsp\;</font></em><a fr-original-style="" href="mailto:lsherman@nctrucking.com" style="user-select: auto\;"><em><font color="#0d5c91">lsherman@nctrucking.com</font></em></a>.</div><hr fr-original-style="" style="clear: both\; user-select: none\; break-after: page\;"><p><span style="font-size: 18px\;"><font><font><strong fr-original-style="font-weight: 700\;" style="font-weight: 700\;"><font color="#004B80"><span style="color: rgb(13\, 92\, 145)\;">Member Cost:&nbsp\;</span></font></strong><font color="#004B80"><span style="color: rgb(0\, 0\, 0)\;">$0\, meal included |&nbsp\;</span></font></font></font><font><font><strong fr-original-style="font-weight: 700\;" style="font-weight: 700\;"><font color="#004B80"><span style="color: rgb(13\, 92\, 145)\;">Non-Member Cost:</span></font><font color="#FF0000">&nbsp\;</font></strong><font color="#000000">$0\,</font> <font>meal included</font></font></font><font>&nbsp\; &nbsp\; &nbsp\;&nbsp\;</font><font>&nbsp\; &nbsp\; &nbsp\; &nbsp\;</font></span></p><hr fr-original-style="" style="clear: both\; user-select: none\; break-after: page\;"><p align="left"><font><font color="#004B80"><span style="font-size: 18px\;"><em><font><font><span style="color: rgb(13\, 92\, 145)\;">The NCTA Technology &amp\; Maintenance Council</span></font><span style="color: rgb(13\, 92\, 145)\;">&nbsp\;welcomes <font>guests to attend and learn about the Council</font>.</span></font></em></span><span style="color: rgb(13\, 92\, 145)\; font-size: 18px\;">&nbsp\;&nbsp\;</span></font></font></p></body></html>
LOCATION:NC
UID:e.1219.1408174
SEQUENCE:3
DTSTAMP:20260424T161722Z
URL:https://northcarolinatruckingassociation.growthzoneapp.com/events/Details/2026-tmc-tech-night-western-nc-area-brakes-disc-drum-1664280?sourceTypeId=Hub
END:VEVENT
END:VCALENDAR
